BEGIN:VCALENDAR
VERSION:2.0
PRODID:-//wp-events-plugin.com//7.2.3.1//EN
TZID:America/Chicago
X-WR-TIMEZONE:America/Chicago
BEGIN:VEVENT
UID:361@golfcranemeadows.com
DTSTART;TZID=America/Chicago;VALUE=DATE:20250906
DTEND;TZID=America/Chicago;VALUE=DATE:20250907
DTSTAMP:20250807T023606Z
URL:https://www.golfcranemeadows.com/events/outing-7am-3pm/
SUMMARY:Outing 7am-3pm
DESCRIPTION:
END:VEVENT
BEGIN:VTIMEZONE
TZID:America/Chicago
X-LIC-LOCATION:America/Chicago
BEGIN:DAYLIGHT
DTSTART:20250309T030000
TZOFFSETFROM:-0600
TZOFFSETTO:-0500
TZNAME:CDT
END:DAYLIGHT
END:VTIMEZONE
END:VCALENDAR